BEGIN:VCALENDAR
VERSION:2.0
PRODID:-//wp-events-plugin.com//7.2.3.1//EN
TZID:America/New_York
X-WR-TIMEZONE:America/New_York
BEGIN:VEVENT
UID:6410@tepb.org
DTSTART;TZID=America/New_York:20231221T100000
DTEND;TZID=America/New_York:20231221T110000
DTSTAMP:20231211T191323Z
URL:https://www.tepb.org/events/adult-education-w-cantor-finkelstein/
SUMMARY:Adult Education w/ Cantor Finkelstein
DESCRIPTION:Topic: "Anything you want to know about Judaism? Just ask the C
 antor!"
ATTACH;FMTTYPE=image/jpeg:https://www.tepb.org/wp-content/uploads/2023/12/
 What-is-Judaism.jpg
CATEGORIES:Adult Education,Classes,Featured Events
END:VEVENT
BEGIN:VTIMEZONE
TZID:America/New_York
X-LIC-LOCATION:America/New_York
BEGIN:STANDARD
DTSTART:20231105T010000
TZOFFSETFROM:-0400
TZOFFSETTO:-0500
TZNAME:EST
END:STANDARD
END:VTIMEZONE
END:VCALENDAR